﻿BEGIN:VCALENDAR
VERSION:2.0
PRODID:-//wp-events-plugin.com//6.4.6.4//EN
BEGIN:VEVENT
UID:18@cancoillottefolk.com
DTSTART:20210905T150000Z
DTEND:20210905T190000Z
DTSTAMP:20210813T163633Z
URL:https://www.cancoillottefolk.com/events/5-septembre-2021-bal-de-la-ren
 tree/
SUMMARY:5 septembre 2021 Bal de la rentrée
DESCRIPTION:Bal de jour avec Kalarash\, trio violon-oud-cymbalum pour un ba
 l moitié folk moitié roumano-bulgaro-klezmer
ATTACH;FMTTYPE=image/jpeg:https://www.cancoillottefolk.com/wp-content/uplo
 ads/2021/07/2021-09-bal-rentree-annule.jpg
CATEGORIES:Bal folk
LOCATION:Salle du puits salé\, rue richebourg\, Lons le Saunier\, Jura\, 3
 9000\, France
X-APPLE-STRUCTURED-LOCATION;VALUE=URI;X-ADDRESS=rue richebourg\, Lons le Sa
 unier\, Jura\, 39000\, France;X-APPLE-RADIUS=100;X-TITLE=Salle du puits sa
 lé:geo:0,0
END:VEVENT
END:VCALENDAR