﻿BEGIN:VCALENDAR
VERSION:2.0
PRODID:-//wp-events-plugin.com//6.4.6.4//EN
BEGIN:VEVENT
UID:6@cancoillottefolk.com
DTSTART:20201030T000000Z
DTEND:20201031T020000Z
DTSTAMP:20201019T084505Z
URL:https://www.cancoillottefolk.com/events/grand-bal-des-fondus-special-d
 ix-ans/
SUMMARY:Grand Bal des Fondus spécial dix ans
DESCRIPTION:Un grand week-end festif pour fêter dignement les 10 ans de Ca
 ncoillottefolk
ATTACH;FMTTYPE=image/jpeg:https://www.cancoillottefolk.com/wp-content/uplo
 ads/2020/10/2020-10-31-bal-fondus-annule.jpg
CATEGORIES:Bal folk
LOCATION:Salle des fêtes\, Chemin des Crochères\, Montmorot\, Jura\, 3957
 0\, Franche-comté\, France
X-APPLE-STRUCTURED-LOCATION;VALUE=URI;X-ADDRESS=Chemin des Crochères\, Mon
 tmorot\, Jura\, 39570\, Franche-comté\, France;X-APPLE-RADIUS=100;X-TITLE
 =Salle des fêtes:geo:0,0
END:VEVENT
END:VCALENDAR